BEGIN:VCALENDAR
VERSION:2.0
CALSCALE:GREGORIAN
PRODID:-//Diputació de Barcelona//DibaCMS//EN
BEGIN:VEVENT
UID:6846
DTSTAMP:20260425T235325
DTSTART:20130207T160000
DTEND:20130207T000000
SUMMARY:Caminada i berenar gras al Pasqualet
LOCATION:
METHOD:PUBLISH
X-WR-CALNAME:caldesm@caldesdemontbui.cat
X-WR-TIMEZONE:Europe/Madrid
DESCRIPTION:
URI:https://www.caldesdemontbui.cat/actualitat/agenda/caminada-i-berenar-gras-al-pasqualet.html
CLASS:PUBLIC
END:VEVENT
END:VCALENDAR
