BEGIN:VCALENDAR
VERSION:2.0
CALSCALE:GREGORIAN
PRODID:-//Diputació de Barcelona//DibaCMS//EN
BEGIN:VEVENT
UID:6844
DTSTAMP:20260425T205606
DTSTART:20130206T090000
DTEND:20130206T000000
SUMMARY:Camianda fins a Can Patxau per celebrar el Carnestoltes
LOCATION:
METHOD:PUBLISH
X-WR-CALNAME:caldesm@caldesdemontbui.cat
X-WR-TIMEZONE:Europe/Madrid
DESCRIPTION:
URI:https://www.caldesdemontbui.cat/actualitat/agenda/camianda-fins-a-can-patxau-per-celebrar-el-carnestoltes.html
CLASS:PUBLIC
END:VEVENT
END:VCALENDAR
