BEGIN:VCALENDAR
VERSION:2.0
CALSCALE:GREGORIAN
PRODID:-//Diputació de Barcelona//DibaCMS//EN
BEGIN:VEVENT
UID:6842
DTSTAMP:20260426T012117
DTSTART:20130204T180000
DTEND:20130204T000000
SUMMARY:Audicions a l'Escola Municipal de Música Joan Valls. Del 4 al 8 de febrer	
LOCATION:
METHOD:PUBLISH
X-WR-CALNAME:caldesm@caldesdemontbui.cat
X-WR-TIMEZONE:Europe/Madrid
DESCRIPTION:
URI:https://www.caldesdemontbui.cat/actualitat/agenda/audicions-a-lescola-municipal-de-msica-joan-valls-del-4-al-8-de-febrer.html
CLASS:PUBLIC
END:VEVENT
END:VCALENDAR
