BEGIN:VCALENDAR
VERSION:2.0
CALSCALE:GREGORIAN
PRODID:-//Diputació de Barcelona//DibaCMS//EN
BEGIN:VEVENT
UID:6841
DTSTAMP:20260426T012107
DTSTART:20130204T100000
DTEND:20130208T000000
SUMMARY:Comencen les inscripcions als nous cursos de català: del 4 al 8 de febrer
LOCATION:
METHOD:PUBLISH
X-WR-CALNAME:caldesm@caldesdemontbui.cat
X-WR-TIMEZONE:Europe/Madrid
DESCRIPTION:
URI:https://www.caldesdemontbui.cat/actualitat/agenda/comencen-les-inscripcions-als-nous-cursos-de-catala-del-4-al-8-de-febrer.html
CLASS:PUBLIC
END:VEVENT
END:VCALENDAR
