BEGIN:VCALENDAR
VERSION:2.0
CALSCALE:GREGORIAN
PRODID:-//Diputació de Barcelona//DibaCMS//EN
BEGIN:VEVENT
UID:6840
DTSTAMP:20260425T224915
DTSTART:20130204T000000
DTEND:20130204T000000
SUMMARY:Exposició de fotografia "Seguint les petjades dels romans. Els camins de l'aigua". Del 4 al 28 de febrer
LOCATION:
METHOD:PUBLISH
X-WR-CALNAME:caldesm@caldesdemontbui.cat
X-WR-TIMEZONE:Europe/Madrid
DESCRIPTION:
URI:https://www.caldesdemontbui.cat/actualitat/agenda/exposicio-de-fotografia-seguint-les-petjades-dels-romans-els-camins-de-laigua-del-4-al-28-de-febrer.html
CLASS:PUBLIC
END:VEVENT
END:VCALENDAR
