BEGIN:VCALENDAR
VERSION:2.0
CALSCALE:GREGORIAN
PRODID:-//Diputació de Barcelona//DibaCMS//EN
BEGIN:VEVENT
UID:6838
DTSTAMP:20260425T190932
DTSTART:20130202T110000
DTEND:20130202T000000
SUMMARY:Taller familiar de massatge infantil
LOCATION:
METHOD:PUBLISH
X-WR-CALNAME:caldesm@caldesdemontbui.cat
X-WR-TIMEZONE:Europe/Madrid
DESCRIPTION:
URI:https://www.caldesdemontbui.cat/actualitat/agenda/taller-familiar-de-massatge-infantil.html
CLASS:PUBLIC
END:VEVENT
END:VCALENDAR
