BEGIN:VCALENDAR
VERSION:2.0
CALSCALE:GREGORIAN
PRODID:-//Diputació de Barcelona//DibaCMS//EN
BEGIN:VEVENT
UID:6837
DTSTAMP:20260425T205235
DTSTART:20130201T190000
DTEND:20130201T000000
SUMMARY:Exposició de samarretes de Festa Major del Ball de Diables - 20 anys
LOCATION:
METHOD:PUBLISH
X-WR-CALNAME:caldesm@caldesdemontbui.cat
X-WR-TIMEZONE:Europe/Madrid
DESCRIPTION:
URI:https://www.caldesdemontbui.cat/actualitat/agenda/exposicio-de-samarretes-de-festa-major-del-ball-de-diables---20-anys.html
CLASS:PUBLIC
END:VEVENT
END:VCALENDAR
