BEGIN:VCALENDAR
VERSION:2.0
CALSCALE:GREGORIAN
PRODID:-//Diputació de Barcelona//DibaCMS//EN
BEGIN:VEVENT
UID:6836
DTSTAMP:20260425T192914
DTSTART:20130201T190000
DTEND:20130201T000000
SUMMARY:Exposició "El fang treballat amb les mans" d'Antonia Puig, Albert Roig i Isabel Oliván.
LOCATION:
METHOD:PUBLISH
X-WR-CALNAME:caldesm@caldesdemontbui.cat
X-WR-TIMEZONE:Europe/Madrid
DESCRIPTION:
URI:https://www.caldesdemontbui.cat/actualitat/agenda/exposicio-el-fang-treballat-amb-les-mans-dantonia-puig-albert-roig-i-isabel-olivan.html
CLASS:PUBLIC
END:VEVENT
END:VCALENDAR
