BEGIN:VCALENDAR
VERSION:2.0
CALSCALE:GREGORIAN
PRODID:-//Diputació de Barcelona//DibaCMS//EN
BEGIN:VEVENT
UID:6835
DTSTAMP:20260425T221703
DTSTART:20130130T160000
DTEND:20130130T000000
SUMMARY:Sortida a la fàbrica de Danone
LOCATION:
METHOD:PUBLISH
X-WR-CALNAME:caldesm@caldesdemontbui.cat
X-WR-TIMEZONE:Europe/Madrid
DESCRIPTION:
URI:https://www.caldesdemontbui.cat/actualitat/agenda/sortida-a-la-fabrica-de-danone.html
CLASS:PUBLIC
END:VEVENT
END:VCALENDAR
