BEGIN:VCALENDAR
VERSION:2.0
CALSCALE:GREGORIAN
PRODID:-//Diputació de Barcelona//DibaCMS//EN
BEGIN:VEVENT
UID:6833
DTSTAMP:20260425T191736
DTSTART:20130128T190000
DTEND:20130128T000000
SUMMARY:Club de lectura. Xerrada sobre l'obra Cims borrascosos, d'Emily Brontë,
LOCATION:
METHOD:PUBLISH
X-WR-CALNAME:caldesm@caldesdemontbui.cat
X-WR-TIMEZONE:Europe/Madrid
DESCRIPTION:
URI:https://www.caldesdemontbui.cat/actualitat/agenda/club-de-lectura-xerrada-sobre-lobra-cims-borrascosos-demily-bronte.html
CLASS:PUBLIC
END:VEVENT
END:VCALENDAR
