BEGIN:VCALENDAR
VERSION:2.0
CALSCALE:GREGORIAN
PRODID:-//Diputació de Barcelona//DibaCMS//EN
BEGIN:VEVENT
UID:6831
DTSTAMP:20260425T194234
DTSTART:20130127T173000
DTEND:20130127T000000
SUMMARY:Cineforum: "Nedoverie" (Desconfiança); i exposició i xerrada: "Txetxènia, trenquem el silenci"
LOCATION:
METHOD:PUBLISH
X-WR-CALNAME:caldesm@caldesdemontbui.cat
X-WR-TIMEZONE:Europe/Madrid
DESCRIPTION:
URI:https://www.caldesdemontbui.cat/actualitat/agenda/cineforum-nedoverie-desconfianca-i-exposicio-i-xerrada-txetxenia-trenquem-el-silenci.html
CLASS:PUBLIC
END:VEVENT
END:VCALENDAR
