BEGIN:VCALENDAR
VERSION:2.0
CALSCALE:GREGORIAN
PRODID:-//Diputació de Barcelona//DibaCMS//EN
BEGIN:VEVENT
UID:6829
DTSTAMP:20260426T011619
DTSTART:20130125T180000
DTEND:20130125T000000
SUMMARY:Hora del conte: Marrramiiiaaaouuu!
LOCATION:
METHOD:PUBLISH
X-WR-CALNAME:caldesm@caldesdemontbui.cat
X-WR-TIMEZONE:Europe/Madrid
DESCRIPTION:
URI:https://www.caldesdemontbui.cat/actualitat/agenda/hora-del-conte-marrramiiiaaaouuu.html
CLASS:PUBLIC
END:VEVENT
END:VCALENDAR
