BEGIN:VCALENDAR
VERSION:2.0
CALSCALE:GREGORIAN
PRODID:-//Diputació de Barcelona//DibaCMS//EN
BEGIN:VEVENT
UID:6827
DTSTAMP:20260425T162318
DTSTART:20130124T200000
DTEND:20130124T000000
SUMMARY:Presentació del llibre "Per comprendre Catalunya Nord, de la identitat desnaturalitzada a l'esperança de futur", de LLorenç Planes
LOCATION:
METHOD:PUBLISH
X-WR-CALNAME:caldesm@caldesdemontbui.cat
X-WR-TIMEZONE:Europe/Madrid
DESCRIPTION:
URI:https://www.caldesdemontbui.cat/actualitat/agenda/presentacio-del-llibre-per-comprendre-catalunya-nord-de-la-identitat-desnaturalitzada-a-lesperanca-de-futur-de-llorenc-planes.html
CLASS:PUBLIC
END:VEVENT
END:VCALENDAR
