BEGIN:VCALENDAR
VERSION:2.0
CALSCALE:GREGORIAN
PRODID:-//Diputació de Barcelona//DibaCMS//EN
BEGIN:VEVENT
UID:6824
DTSTAMP:20260426T012356
DTSTART:20130123T190000
DTEND:20130123T000000
SUMMARY:Concentració i lectura del manifest a favor de la Declaració d'independència 
LOCATION:
METHOD:PUBLISH
X-WR-CALNAME:caldesm@caldesdemontbui.cat
X-WR-TIMEZONE:Europe/Madrid
DESCRIPTION:
URI:https://www.caldesdemontbui.cat/actualitat/agenda/concentracio-i-lectura-del-manifest-a-favor-de-la-declaracio-dindependencia-.html
CLASS:PUBLIC
END:VEVENT
END:VCALENDAR
