BEGIN:VCALENDAR
VERSION:2.0
CALSCALE:GREGORIAN
PRODID:-//Diputació de Barcelona//DibaCMS//EN
BEGIN:VEVENT
UID:6823
DTSTAMP:20260425T215114
DTSTART:20130123T190000
DTEND:20130123T000000
SUMMARY:Taller: introducció al món dels somnis (dies 23 i 30 de gener)
LOCATION:
METHOD:PUBLISH
X-WR-CALNAME:caldesm@caldesdemontbui.cat
X-WR-TIMEZONE:Europe/Madrid
DESCRIPTION:
URI:https://www.caldesdemontbui.cat/actualitat/agenda/taller-introduccio-al-mon-dels-somnis-dies-23-i-30-de-gener.html
CLASS:PUBLIC
END:VEVENT
END:VCALENDAR
