BEGIN:VCALENDAR
VERSION:2.0
CALSCALE:GREGORIAN
PRODID:-//Diputació de Barcelona//DibaCMS//EN
BEGIN:VEVENT
UID:6820
DTSTAMP:20260425T190051
DTSTART:20130122T193000
DTEND:20130122T000000
SUMMARY:Propera acció formativa per famílies: Teatre-Fòrum "Educar és costa meva...teva?
LOCATION:
METHOD:PUBLISH
X-WR-CALNAME:caldesm@caldesdemontbui.cat
X-WR-TIMEZONE:Europe/Madrid
DESCRIPTION:
URI:https://www.caldesdemontbui.cat/actualitat/agenda/propera-accio-formativa-per-families-teatre-forum-educar-es-costa-mevateva.html
CLASS:PUBLIC
END:VEVENT
END:VCALENDAR
