BEGIN:VCALENDAR
VERSION:2.0
CALSCALE:GREGORIAN
PRODID:-//Diputació de Barcelona//DibaCMS//EN
BEGIN:VEVENT
UID:6816
DTSTAMP:20260425T215023
DTSTART:20130119T000000
DTEND:20130120T000000
SUMMARY:Sant Antoni 2013: Tres Tombs i Ball de Plaça
LOCATION:
METHOD:PUBLISH
X-WR-CALNAME:caldesm@caldesdemontbui.cat
X-WR-TIMEZONE:Europe/Madrid
DESCRIPTION:
URI:https://www.caldesdemontbui.cat/actualitat/agenda/sant-antoni-2013-tres-tombs-i-ball-de-placa.html
CLASS:PUBLIC
END:VEVENT
END:VCALENDAR
