BEGIN:VCALENDAR
VERSION:2.0
CALSCALE:GREGORIAN
PRODID:-//Diputació de Barcelona//DibaCMS//EN
BEGIN:VEVENT
UID:6812
DTSTAMP:20260425T205653
DTSTART:20130114T193000
DTEND:20130114T000000
SUMMARY:Comença el curs d'iniciació a la Fotografia
LOCATION:
METHOD:PUBLISH
X-WR-CALNAME:caldesm@caldesdemontbui.cat
X-WR-TIMEZONE:Europe/Madrid
DESCRIPTION:
URI:https://www.caldesdemontbui.cat/actualitat/agenda/comenca-el-curs-diniciacio-a-la-fotografia.html
CLASS:PUBLIC
END:VEVENT
END:VCALENDAR
