BEGIN:VCALENDAR
VERSION:2.0
CALSCALE:GREGORIAN
PRODID:-//Diputació de Barcelona//DibaCMS//EN
BEGIN:VEVENT
UID:6811
DTSTAMP:20260425T221628
DTSTART:20130114T190000
DTEND:20130114T000000
SUMMARY:Inici del curs d'Aquarel·la Creativa
LOCATION:
METHOD:PUBLISH
X-WR-CALNAME:caldesm@caldesdemontbui.cat
X-WR-TIMEZONE:Europe/Madrid
DESCRIPTION:
URI:https://www.caldesdemontbui.cat/actualitat/agenda/inici-del-curs-daquarella-creativa.html
CLASS:PUBLIC
END:VEVENT
END:VCALENDAR
