BEGIN:VCALENDAR
VERSION:2.0
CALSCALE:GREGORIAN
PRODID:-//Diputació de Barcelona//DibaCMS//EN
BEGIN:VEVENT
UID:6810
DTSTAMP:20260425T203537
DTSTART:20130114T000000
DTEND:20130114T000000
SUMMARY:Inici de les inscripcions per a les sessions de formació en l'ús d'Internet (Mòdul A)
LOCATION:
METHOD:PUBLISH
X-WR-CALNAME:caldesm@caldesdemontbui.cat
X-WR-TIMEZONE:Europe/Madrid
DESCRIPTION:
URI:https://www.caldesdemontbui.cat/actualitat/agenda/inici-de-les-inscripcions-per-a-les-sessions-de-formacio-en-ls-dinternet-modul-a.html
CLASS:PUBLIC
END:VEVENT
END:VCALENDAR
