BEGIN:VCALENDAR
VERSION:2.0
CALSCALE:GREGORIAN
PRODID:-//Diputació de Barcelona//DibaCMS//EN
BEGIN:VEVENT
UID:6809
DTSTAMP:20260425T190242
DTSTART:20130113T170000
DTEND:20130113T000000
SUMMARY:Xerrada: Com arribar al final del dia amb salut?, amb M. Teresa Guardiola
LOCATION:
METHOD:PUBLISH
X-WR-CALNAME:caldesm@caldesdemontbui.cat
X-WR-TIMEZONE:Europe/Madrid
DESCRIPTION:
URI:https://www.caldesdemontbui.cat/actualitat/agenda/xerrada-com-arribar-al-final-del-dia-amb-salut-amb-m-teresa-guardiola.html
CLASS:PUBLIC
END:VEVENT
END:VCALENDAR
