BEGIN:VCALENDAR
VERSION:2.0
CALSCALE:GREGORIAN
PRODID:-//Diputació de Barcelona//DibaCMS//EN
BEGIN:VEVENT
UID:6808
DTSTAMP:20260425T235612
DTSTART:20130111T190000
DTEND:20130111T000000
SUMMARY:Exposició d'il·lustracions: "Moments" de Núria Ramon. De l'11 al 20 de gener
LOCATION:
METHOD:PUBLISH
X-WR-CALNAME:caldesm@caldesdemontbui.cat
X-WR-TIMEZONE:Europe/Madrid
DESCRIPTION:
URI:https://www.caldesdemontbui.cat/actualitat/agenda/exposicio-dillustracions-moments-de-nria-ramon-de-l11-al-20-de-gener.html
CLASS:PUBLIC
END:VEVENT
END:VCALENDAR
