BEGIN:VCALENDAR
VERSION:2.0
CALSCALE:GREGORIAN
PRODID:-//Diputació de Barcelona//DibaCMS//EN
BEGIN:VEVENT
UID:6806
DTSTAMP:20260425T221806
DTSTART:20130108T190000
DTEND:20130108T000000
SUMMARY:Inici del curs de ceràmica escultòrica d'alta temperatura
LOCATION:
METHOD:PUBLISH
X-WR-CALNAME:caldesm@caldesdemontbui.cat
X-WR-TIMEZONE:Europe/Madrid
DESCRIPTION:
URI:https://www.caldesdemontbui.cat/actualitat/agenda/inici-del-curs-de-ceramica-escultorica-dalta-temperatura.html
CLASS:PUBLIC
END:VEVENT
END:VCALENDAR
