BEGIN:VCALENDAR
VERSION:2.0
CALSCALE:GREGORIAN
PRODID:-//Diputació de Barcelona//DibaCMS//EN
BEGIN:VEVENT
UID:6803
DTSTAMP:20260425T235041
DTSTART:20130107T000000
DTEND:20130107T000000
SUMMARY:Comença la recollida d'arbres de Nadal. Del 7 al 25 de gener.
LOCATION:
METHOD:PUBLISH
X-WR-CALNAME:caldesm@caldesdemontbui.cat
X-WR-TIMEZONE:Europe/Madrid
DESCRIPTION:
URI:https://www.caldesdemontbui.cat/actualitat/agenda/comenca-la-recollida-darbres-de-nadal-del-7-al-25-de-gener.html
CLASS:PUBLIC
END:VEVENT
END:VCALENDAR
