BEGIN:VCALENDAR
VERSION:2.0
CALSCALE:GREGORIAN
PRODID:-//Diputació de Barcelona//DibaCMS//EN
BEGIN:VEVENT
UID:6801
DTSTAMP:20260425T235112
DTSTART:20130105T203000
DTEND:20130105T000000
SUMMARY:Nadal 2012. Parlament i repartiment de regals als infants de Caldes dels Reis d'Orient
LOCATION:
METHOD:PUBLISH
X-WR-CALNAME:caldesm@caldesdemontbui.cat
X-WR-TIMEZONE:Europe/Madrid
DESCRIPTION:
URI:https://www.caldesdemontbui.cat/actualitat/agenda/nadal-2012-parlament-i-repartiment-de-regals-als-infants-de-caldes-dels-reis-dorient.html
CLASS:PUBLIC
END:VEVENT
END:VCALENDAR
