BEGIN:VCALENDAR
VERSION:2.0
CALSCALE:GREGORIAN
PRODID:-//Diputació de Barcelona//DibaCMS//EN
BEGIN:VEVENT
UID:6799
DTSTAMP:20260425T235409
DTSTART:20130105T173000
DTEND:20130105T000000
SUMMARY:Nadal 2012. Visita de SM els Reis d'Orient a la Residència Santa Susanna
LOCATION:
METHOD:PUBLISH
X-WR-CALNAME:caldesm@caldesdemontbui.cat
X-WR-TIMEZONE:Europe/Madrid
DESCRIPTION:
URI:https://www.caldesdemontbui.cat/actualitat/agenda/nadal-2012-visita-de-sm-els-reis-dorient-a-la-residencia-santa-susanna.html
CLASS:PUBLIC
END:VEVENT
END:VCALENDAR
