BEGIN:VCALENDAR
VERSION:2.0
CALSCALE:GREGORIAN
PRODID:-//Diputació de Barcelona//DibaCMS//EN
BEGIN:VEVENT
UID:6797
DTSTAMP:20260425T203511
DTSTART:20130104T170000
DTEND:20130104T000000
SUMMARY:Activitats de Nadal de la UCIC: Ens pintem la cara i Fanalets
LOCATION:
METHOD:PUBLISH
X-WR-CALNAME:caldesm@caldesdemontbui.cat
X-WR-TIMEZONE:Europe/Madrid
DESCRIPTION:
URI:https://www.caldesdemontbui.cat/actualitat/agenda/activitats-de-nadal-de-la-ucic-ens-pintem-la-cara-i-fanalets.html
CLASS:PUBLIC
END:VEVENT
END:VCALENDAR
