BEGIN:VCALENDAR
VERSION:2.0
CALSCALE:GREGORIAN
PRODID:-//Diputació de Barcelona//DibaCMS//EN
BEGIN:VEVENT
UID:6795
DTSTAMP:20260425T235520
DTSTART:20130102T170000
DTEND:20130102T000000
SUMMARY:Activitats de Nadal de la UCIC: Emmarquem un arbre
LOCATION:
METHOD:PUBLISH
X-WR-CALNAME:caldesm@caldesdemontbui.cat
X-WR-TIMEZONE:Europe/Madrid
DESCRIPTION:
URI:https://www.caldesdemontbui.cat/actualitat/agenda/activitats-de-nadal-de-la-ucic-emmarquem-un-arbre.html
CLASS:PUBLIC
END:VEVENT
END:VCALENDAR
