BEGIN:VCALENDAR
VERSION:2.0
CALSCALE:GREGORIAN
PRODID:-//Diputació de Barcelona//DibaCMS//EN
BEGIN:VEVENT
UID:6792
DTSTAMP:20260425T235448
DTSTART:20121231T210000
DTEND:20121231T000000
SUMMARY:Nadal 2012. Sopar ball especial de nit de Cap d'Any
LOCATION:
METHOD:PUBLISH
X-WR-CALNAME:caldesm@caldesdemontbui.cat
X-WR-TIMEZONE:Europe/Madrid
DESCRIPTION:
URI:https://www.caldesdemontbui.cat/actualitat/agenda/nadal-2012-sopar-ball-especial-de-nit-de-cap-dany.html
CLASS:PUBLIC
END:VEVENT
END:VCALENDAR
