BEGIN:VCALENDAR
VERSION:2.0
CALSCALE:GREGORIAN
PRODID:-//Diputació de Barcelona//DibaCMS//EN
BEGIN:VEVENT
UID:6783
DTSTAMP:20260425T185508
DTSTART:20121227T170000
DTEND:20121227T000000
SUMMARY:Activitats de Nadal de la UCIC: Nadales 
LOCATION:
METHOD:PUBLISH
X-WR-CALNAME:caldesm@caldesdemontbui.cat
X-WR-TIMEZONE:Europe/Madrid
DESCRIPTION:
URI:https://www.caldesdemontbui.cat/actualitat/agenda/activitats-de-nadal-de-la-ucic-nadales-.html
CLASS:PUBLIC
END:VEVENT
END:VCALENDAR
