BEGIN:VCALENDAR
VERSION:2.0
CALSCALE:GREGORIAN
PRODID:-//Diputació de Barcelona//DibaCMS//EN
BEGIN:VEVENT
UID:6779
DTSTAMP:20260425T203644
DTSTART:20121225T183000
DTEND:20121225T000000
SUMMARY:Vine al Gran Casino! Els Pastorets, de Josep M. Folch i Torres. 25, 26 i 30 de desembre
LOCATION:
METHOD:PUBLISH
X-WR-CALNAME:caldesm@caldesdemontbui.cat
X-WR-TIMEZONE:Europe/Madrid
DESCRIPTION:
URI:https://www.caldesdemontbui.cat/actualitat/agenda/vine-al-gran-casino-els-pastorets-de-josep-m-folch-i-torres-25-26-i-30-de-desembre.html
CLASS:PUBLIC
END:VEVENT
END:VCALENDAR
