BEGIN:VCALENDAR
VERSION:2.0
CALSCALE:GREGORIAN
PRODID:-//Diputació de Barcelona//DibaCMS//EN
BEGIN:VEVENT
UID:6776
DTSTAMP:20260425T174107
DTSTART:20121223T170000
DTEND:20121223T210000
SUMMARY:Marató benèfica de Canal Català Vallès Oriental per a la campanya de Creu Roja  "Cap nen sense joguina"
LOCATION:
METHOD:PUBLISH
X-WR-CALNAME:caldesm@caldesdemontbui.cat
X-WR-TIMEZONE:Europe/Madrid
DESCRIPTION:
URI:https://www.caldesdemontbui.cat/actualitat/agenda/marato-benefica-de-canal-catala-valles-oriental-per-a-la-campanya-de-creu-roja--cap-nen-sense-joguina.html
CLASS:PUBLIC
END:VEVENT
END:VCALENDAR
