BEGIN:VCALENDAR
VERSION:2.0
CALSCALE:GREGORIAN
PRODID:-//Diputació de Barcelona//DibaCMS//EN
BEGIN:VEVENT
UID:6770
DTSTAMP:20260426T012427
DTSTART:20121221T000000
DTEND:20121221T000000
SUMMARY:Nadal 2012. Curs Aikido Nadal. 21 i 22 de desembre
LOCATION:
METHOD:PUBLISH
X-WR-CALNAME:caldesm@caldesdemontbui.cat
X-WR-TIMEZONE:Europe/Madrid
DESCRIPTION:
URI:https://www.caldesdemontbui.cat/actualitat/agenda/nadal-2012-curs-aikido-nadal-21-i-22-de-desembre.html
CLASS:PUBLIC
END:VEVENT
END:VCALENDAR
