BEGIN:VCALENDAR
VERSION:2.0
CALSCALE:GREGORIAN
PRODID:-//Diputació de Barcelona//DibaCMS//EN
BEGIN:VEVENT
UID:6768
DTSTAMP:20260425T150948
DTSTART:20121220T173000
DTEND:20121220T000000
SUMMARY:Nadal 2012. Cicle desaprendre per aprendre: "És Nadal i a casa hi ha una cadira buida"
LOCATION:
METHOD:PUBLISH
X-WR-CALNAME:caldesm@caldesdemontbui.cat
X-WR-TIMEZONE:Europe/Madrid
DESCRIPTION:
URI:https://www.caldesdemontbui.cat/actualitat/agenda/nadal-2012-cicle-desaprendre-per-aprendre-es-nadal-i-a-casa-hi-ha-una-cadira-buida.html
CLASS:PUBLIC
END:VEVENT
END:VCALENDAR
