BEGIN:VCALENDAR
VERSION:2.0
CALSCALE:GREGORIAN
PRODID:-//Diputació de Barcelona//DibaCMS//EN
BEGIN:VEVENT
UID:6767
DTSTAMP:20260425T190209
DTSTART:20121219T160000
DTEND:20121219T000000
SUMMARY:Nadal 2012. Teatre: Blanca, vídua d'un viu, de Nicasi Camps i Pinós
LOCATION:
METHOD:PUBLISH
X-WR-CALNAME:caldesm@caldesdemontbui.cat
X-WR-TIMEZONE:Europe/Madrid
DESCRIPTION:
URI:https://www.caldesdemontbui.cat/actualitat/agenda/nadal-2012-teatre-blanca-vidua-dun-viu-de-nicasi-camps-i-pinos.html
CLASS:PUBLIC
END:VEVENT
END:VCALENDAR
