BEGIN:VCALENDAR
VERSION:2.0
CALSCALE:GREGORIAN
PRODID:-//Diputació de Barcelona//DibaCMS//EN
BEGIN:VEVENT
UID:6766
DTSTAMP:20260425T132845
DTSTART:20121219T090000
DTEND:20121219T000000
SUMMARY:Caminada i celebració del Nadal a can Patxau
LOCATION:
METHOD:PUBLISH
X-WR-CALNAME:caldesm@caldesdemontbui.cat
X-WR-TIMEZONE:Europe/Madrid
DESCRIPTION:
URI:https://www.caldesdemontbui.cat/actualitat/agenda/caminada-i-celebracio-del-nadal-a-can-patxau.html
CLASS:PUBLIC
END:VEVENT
END:VCALENDAR
