BEGIN:VCALENDAR
VERSION:2.0
CALSCALE:GREGORIAN
PRODID:-//Diputació de Barcelona//DibaCMS//EN
BEGIN:VEVENT
UID:6765
DTSTAMP:20260425T235356
DTSTART:20121218T203000
DTEND:20121218T000000
SUMMARY:Xerrada "Com ens comuniquem amb els nostres fills i filles? I les emocions?
LOCATION:
METHOD:PUBLISH
X-WR-CALNAME:caldesm@caldesdemontbui.cat
X-WR-TIMEZONE:Europe/Madrid
DESCRIPTION:
URI:https://www.caldesdemontbui.cat/actualitat/agenda/xerrada-com-ens-comuniquem-amb-els-nostres-fills-i-filles-i-les-emocions.html
CLASS:PUBLIC
END:VEVENT
END:VCALENDAR
