BEGIN:VCALENDAR
VERSION:2.0
CALSCALE:GREGORIAN
PRODID:-//Diputació de Barcelona//DibaCMS//EN
BEGIN:VEVENT
UID:6763
DTSTAMP:20260425T162434
DTSTART:20121216T183000
DTEND:20121216T000000
SUMMARY:Caldes Bull amb la Marató: CH Caldes-CH Mataró. Categoria Nacional Catalana
LOCATION:
METHOD:PUBLISH
X-WR-CALNAME:caldesm@caldesdemontbui.cat
X-WR-TIMEZONE:Europe/Madrid
DESCRIPTION:
URI:https://www.caldesdemontbui.cat/actualitat/agenda/caldes-bull-amb-la-marato-ch-caldes-ch-mataro-categoria-nacional-catalana.html
CLASS:PUBLIC
END:VEVENT
END:VCALENDAR
