BEGIN:VCALENDAR
VERSION:2.0
CALSCALE:GREGORIAN
PRODID:-//Diputació de Barcelona//DibaCMS//EN
BEGIN:VEVENT
UID:6762
DTSTAMP:20260425T223535
DTSTART:20121216T183000
DTEND:20121216T000000
SUMMARY:Nadal 2012. Espectacle de l'Espai a Gospel & Jazz. Grup vocal Zitzània
LOCATION:
METHOD:PUBLISH
X-WR-CALNAME:caldesm@caldesdemontbui.cat
X-WR-TIMEZONE:Europe/Madrid
DESCRIPTION:
URI:https://www.caldesdemontbui.cat/actualitat/agenda/nadal-2012-espectacle-de-lespai-a-gospel-and-jazz-grup-vocal-zitzania.html
CLASS:PUBLIC
END:VEVENT
END:VCALENDAR
