BEGIN:VCALENDAR
VERSION:2.0
CALSCALE:GREGORIAN
PRODID:-//Diputació de Barcelona//DibaCMS//EN
BEGIN:VEVENT
UID:6761
DTSTAMP:20260425T132750
DTSTART:20121216T183000
DTEND:20121216T000000
SUMMARY:Nadal 2012. CICLE NÒMADES: "Geografies concretes: desplaçaments i rastres en el territori"
LOCATION:
METHOD:PUBLISH
X-WR-CALNAME:caldesm@caldesdemontbui.cat
X-WR-TIMEZONE:Europe/Madrid
DESCRIPTION:
URI:https://www.caldesdemontbui.cat/actualitat/agenda/nadal-2012-cicle-nomades-geografies-concretes-desplacaments-i-rastres-en-el-territori.html
CLASS:PUBLIC
END:VEVENT
END:VCALENDAR
