BEGIN:VCALENDAR
VERSION:2.0
CALSCALE:GREGORIAN
PRODID:-//Diputació de Barcelona//DibaCMS//EN
BEGIN:VEVENT
UID:6760
DTSTAMP:20260425T145605
DTSTART:20121216T170000
DTEND:20121216T000000
SUMMARY:Nadal 2012. Presentació oficial de tots els equips del Club Hoquei Caldes
LOCATION:
METHOD:PUBLISH
X-WR-CALNAME:caldesm@caldesdemontbui.cat
X-WR-TIMEZONE:Europe/Madrid
DESCRIPTION:
URI:https://www.caldesdemontbui.cat/actualitat/agenda/nadal-2012-presentacio-oficial-de-tots-els-equips-del-club-hoquei-caldes.html
CLASS:PUBLIC
END:VEVENT
END:VCALENDAR
