BEGIN:VCALENDAR
VERSION:2.0
CALSCALE:GREGORIAN
PRODID:-//Diputació de Barcelona//DibaCMS//EN
BEGIN:VEVENT
UID:6759
DTSTAMP:20260425T205824
DTSTART:20121216T123000
DTEND:20121216T000000
SUMMARY:Caldes Bull amb la Marató: Bàsquet. Sènior A Femení CN Caldes - Círcol Catòlic Badalona
LOCATION:
METHOD:PUBLISH
X-WR-CALNAME:caldesm@caldesdemontbui.cat
X-WR-TIMEZONE:Europe/Madrid
DESCRIPTION:
URI:https://www.caldesdemontbui.cat/actualitat/agenda/caldes-bull-amb-la-marato-basquet-senior-a-femeni-cn-caldes---circol-catolic-badalona.html
CLASS:PUBLIC
END:VEVENT
END:VCALENDAR
