BEGIN:VCALENDAR
VERSION:2.0
CALSCALE:GREGORIAN
PRODID:-//Diputació de Barcelona//DibaCMS//EN
BEGIN:VEVENT
UID:6757
DTSTAMP:20260425T145748
DTSTART:20121215T213000
DTEND:20121215T000000
SUMMARY:Caldes Bull amb la Marató: Sopar solidari "Caldes bull amb La Marató"
LOCATION:
METHOD:PUBLISH
X-WR-CALNAME:caldesm@caldesdemontbui.cat
X-WR-TIMEZONE:Europe/Madrid
DESCRIPTION:
URI:https://www.caldesdemontbui.cat/actualitat/agenda/caldes-bull-amb-la-marato-sopar-solidari-caldes-bull-amb-la-marato.html
CLASS:PUBLIC
END:VEVENT
END:VCALENDAR
