BEGIN:VCALENDAR
VERSION:2.0
CALSCALE:GREGORIAN
PRODID:-//Diputació de Barcelona//DibaCMS//EN
BEGIN:VEVENT
UID:6756
DTSTAMP:20260425T203755
DTSTART:20121215T200000
DTEND:20121215T000000
SUMMARY:Nadal 2012. Inauguració de l'exposició "Bocs, obra recent d'Antoni Carné i Gràcia"
LOCATION:
METHOD:PUBLISH
X-WR-CALNAME:caldesm@caldesdemontbui.cat
X-WR-TIMEZONE:Europe/Madrid
DESCRIPTION:
URI:https://www.caldesdemontbui.cat/actualitat/agenda/nadal-2012-inauguracio-de-lexposicio-bocs-obra-recent-dantoni-carne-i-gracia.html
CLASS:PUBLIC
END:VEVENT
END:VCALENDAR
