BEGIN:VCALENDAR
VERSION:2.0
CALSCALE:GREGORIAN
PRODID:-//Diputació de Barcelona//DibaCMS//EN
BEGIN:VEVENT
UID:6752
DTSTAMP:20260425T191959
DTSTART:20121215T180000
DTEND:20121215T000000
SUMMARY:Caldes Bull amb la Marató: II Festival de Nadal de Patinatge artístic Caldes
LOCATION:
METHOD:PUBLISH
X-WR-CALNAME:caldesm@caldesdemontbui.cat
X-WR-TIMEZONE:Europe/Madrid
DESCRIPTION:
URI:https://www.caldesdemontbui.cat/actualitat/agenda/caldes-bull-amb-la-marato-ii-festival-de-nadal-de-patinatge-artistic-caldes.html
CLASS:PUBLIC
END:VEVENT
END:VCALENDAR
