BEGIN:VCALENDAR
VERSION:2.0
CALSCALE:GREGORIAN
PRODID:-//Diputació de Barcelona//DibaCMS//EN
BEGIN:VEVENT
UID:6751
DTSTAMP:20260425T132917
DTSTART:20121215T180000
DTEND:20121215T000000
SUMMARY:Caldes Bull amb la Marató: Berenar solidari: Xocolata per als petits i cava per als grans
LOCATION:
METHOD:PUBLISH
X-WR-CALNAME:caldesm@caldesdemontbui.cat
X-WR-TIMEZONE:Europe/Madrid
DESCRIPTION:
URI:https://www.caldesdemontbui.cat/actualitat/agenda/caldes-bull-amb-la-marato-berenar-solidari-xocolata-per-als-petits-i-cava-per-als-grans.html
CLASS:PUBLIC
END:VEVENT
END:VCALENDAR
