BEGIN:VCALENDAR
VERSION:2.0
CALSCALE:GREGORIAN
PRODID:-//Diputació de Barcelona//DibaCMS//EN
BEGIN:VEVENT
UID:6750
DTSTAMP:20260425T145859
DTSTART:20121215T180000
DTEND:20121215T000000
SUMMARY:Nadal 2012. II Festival de Nadal de patinatge artístic
LOCATION:
METHOD:PUBLISH
X-WR-CALNAME:caldesm@caldesdemontbui.cat
X-WR-TIMEZONE:Europe/Madrid
DESCRIPTION:
URI:https://www.caldesdemontbui.cat/actualitat/agenda/nadal-2012-ii-festival-de-nadal-de-patinatge-artistic.html
CLASS:PUBLIC
END:VEVENT
END:VCALENDAR
