BEGIN:VCALENDAR
VERSION:2.0
CALSCALE:GREGORIAN
PRODID:-//Diputació de Barcelona//DibaCMS//EN
BEGIN:VEVENT
UID:6749
DTSTAMP:20260425T174725
DTSTART:20121215T170000
DTEND:20121215T000000
SUMMARY:Caldes Bull amb la Marató: Futbol Sala. Sènior A CN Caldes Femení - FS Sabadell
LOCATION:
METHOD:PUBLISH
X-WR-CALNAME:caldesm@caldesdemontbui.cat
X-WR-TIMEZONE:Europe/Madrid
DESCRIPTION:
URI:https://www.caldesdemontbui.cat/actualitat/agenda/caldes-bull-amb-la-marato-futbol-sala-senior-a-cn-caldes-femeni---fs-sabadell.html
CLASS:PUBLIC
END:VEVENT
END:VCALENDAR
