BEGIN:VCALENDAR
VERSION:2.0
CALSCALE:GREGORIAN
PRODID:-//Diputació de Barcelona//DibaCMS//EN
BEGIN:VEVENT
UID:6748
DTSTAMP:20260425T190016
DTSTART:20121215T160000
DTEND:20121215T000000
SUMMARY:Caldes Bull amb la Marató: Teatre "Blanca, vídua d'un viu" de Nicasi Camps i Pinós
LOCATION:
METHOD:PUBLISH
X-WR-CALNAME:caldesm@caldesdemontbui.cat
X-WR-TIMEZONE:Europe/Madrid
DESCRIPTION:
URI:https://www.caldesdemontbui.cat/actualitat/agenda/caldes-bull-amb-la-marato-teatre-blanca-vidua-dun-viu-de-nicasi-camps-i-pinos.html
CLASS:PUBLIC
END:VEVENT
END:VCALENDAR
