BEGIN:VCALENDAR
VERSION:2.0
CALSCALE:GREGORIAN
PRODID:-//Diputació de Barcelona//DibaCMS//EN
BEGIN:VEVENT
UID:6747
DTSTAMP:20260426T042741
DTSTART:20121215T153000
DTEND:20121215T000000
SUMMARY:Caldes Bull amb la Marató: Competició de Natació - Torneig de Nadal- Lliga infantil
LOCATION:
METHOD:PUBLISH
X-WR-CALNAME:caldesm@caldesdemontbui.cat
X-WR-TIMEZONE:Europe/Madrid
DESCRIPTION:
URI:https://www.caldesdemontbui.cat/actualitat/agenda/caldes-bull-amb-la-marato-competicio-de-natacio---torneig-de-nadal--lliga-infantil.html
CLASS:PUBLIC
END:VEVENT
END:VCALENDAR
